BEGIN:VCALENDAR
VERSION:2.0
PRODID:icalendar-ruby
CALSCALE:GREGORIAN
METHOD:PUBLISH
BEGIN:VEVENT
DTSTAMP:20260426T020815Z
UID:5-401469@myextraordinarylifechurch.com
DTSTART:20261025T143000Z
DTEND:20261025T153000Z
CLASS:PUBLIC
CREATED:20260425T211304
DESCRIPTION:Sunday Worship
LAST-MODIFIED:20260425T211304
LOCATION:
SUMMARY:Sunday Worship
URL;VALUE=URI:https://myextraordinarylifechurch.com/events/sunday-worship/2
 026-10-25
END:VEVENT
END:VCALENDAR
