BEGIN:VCALENDAR
VERSION:2.0
PRODID:icalendar-ruby
CALSCALE:GREGORIAN
METHOD:PUBLISH
BEGIN:VEVENT
DTSTAMP:20260426T035311Z
UID:5-401470@myextraordinarylifechurch.com
DTSTART:20261101T153000Z
DTEND:20261101T163000Z
CLASS:PUBLIC
CREATED:20260425T211304
DESCRIPTION:Sunday Worship
LAST-MODIFIED:20260425T211304
LOCATION:
SUMMARY:Sunday Worship
URL;VALUE=URI:https://myextraordinarylifechurch.com/events/sunday-worship/2
 026-11-01
END:VEVENT
END:VCALENDAR
